
BEGIN:VCALENDAR
VERSION:2.0
PRODID:-//Zona Trading
CALSCALE:GREGORIAN
METHOD:PUBLISH
X-WR-CALNAME:Zona Trading
X-ORIGINAL-URL:https://zonatrading.co/product/options-trading-presencial/
X-WR-CALDESC:Curso online de options trading &#8211; módulo 2 (míercoles)
BEGIN:VEVENT
DTSTART;TZID=America/Chicago:20211103T180000
DTEND;TZID=America/Chicago:20211124T220000
SUMMARY:Curso online de options trading – módulo 2 (míercoles)
DESCRIPTION:¡Aprende a invertir de forma profesional en opciones americanas! Conoce cómo implementar estrategias avanzadas de hedging y spreads utilizando mayor apalancamiento y retorno sobre la inversión. El curso será impartido de forma online en 4 sesiones personalizadas por zoom los días miércoles en horario de 18:00 a 22:00 horas. El curso de options trading (módulo 2) esta dirigido a nuestros alumnos avanzados que ya cursaron el módulo 1 (swing trading).  ¡El cupo es limitado!
URL:https://zonatrading.co/product/options-trading-presencial/
LOCATION:Videoconferencia por Zoom
END:VEVENT
END:VCALENDAR
