
BEGIN:VCALENDAR
VERSION:2.0
PRODID:-//Zona Trading
CALSCALE:GREGORIAN
METHOD:PUBLISH
X-WR-CALNAME:Zona Trading
X-ORIGINAL-URL:https://zonatrading.co/product/curso-presencial-de-swing-trading-modulo-1-jueves/
X-WR-CALDESC:Curso presencial de swing trading &#8211; módulo 1 (jueves)
BEGIN:VEVENT
DTSTART;TZID=America/Chicago:20211104T000000
DTEND;TZID=America/Chicago:20211202T000000
SUMMARY:Curso presencial de swing trading – módulo 1 (jueves)
DESCRIPTION:¡Aprende a invertir de forma profesional en la Bolsa de Valores de Nueva York! Conoce cómo implementar estrategias sistemáticas y hacer tu propio sistema de trading. El curso será impartido de forma presencial cada sábado a partir del 04 de noviembre hasta el 2 de diciembre de 2021, en horario vespertino es de 18:00 a 21:45 horas. El curso contiene contenido digital de apoyo e incluye Coffe Break y diploma de participación. Contamos con las medidas de prevención para Covid-19 ¡El cupo es limitado!
URL:https://zonatrading.co/product/curso-presencial-de-swing-trading-modulo-1-jueves/
LOCATION:Ciudad Cayalá Distrito Moda, Go Work B301, Zona 16
END:VEVENT
END:VCALENDAR
