
BEGIN:VCALENDAR
VERSION:2.0
PRODID:-//Zona Trading
CALSCALE:GREGORIAN
METHOD:PUBLISH
X-WR-CALNAME:Zona Trading
X-ORIGINAL-URL:https://zonatrading.co/product/curso-profesional-de-futuros-online/
X-WR-CALDESC:Curso profesional de futuros &#8211; Online
BEGIN:VEVENT
DTSTART;TZID=America/Chicago:20250909T000000
DTEND;TZID=America/Chicago:20251009T000000
SUMMARY:Curso profesional de futuros – Online
DESCRIPTION:Aprende a operar con las instituciones y jugadores grandes, para aumentar tu probabilidad de éxito. Domina el uso de herramientas que usan los profesionales para ver lo que el trader retailer promedio no poder ver, como operar futuros en intradía. El curso incluye 6 clases de coaching y 4 sesiones de Live Trading (10 clases en total). Si buscas avanzar en tu trading, esta es tu oportunidad. ¡El cupo es limitado!
URL:https://zonatrading.co/product/curso-profesional-de-futuros-online/
LOCATION:Microsoft Teams
END:VEVENT
END:VCALENDAR
